BEGIN:VCALENDAR
VERSION:2.0
PRODID:-//wp-events-plugin.com//7.2.3.1//EN
TZID:Europe/Berlin
X-WR-TIMEZONE:Europe/Berlin
BEGIN:VEVENT
UID:220@lunakino.de
DTSTART;TZID=Europe/Berlin:20250826T200000
DTEND;TZID=Europe/Berlin:20250826T233000
DTSTAMP:20250612T192555Z
URL:https://lunakino.de/filme/like-a-complete-unknown/
SUMMARY:Like A Complete Unknown
DESCRIPTION:Anfang 1961 taucht der 19-jährige Bob Dylan in New York auf un
 d findet rasch Aufnahme in die Folkmusik-Szene. Mit seinem ungewöhnlichen
  Songschreiber-Talent steigt der enigmatische Eigenbrötler in den nächst
 en Jahren zum Star auf\, entzieht sich jedoch zusehends der Vereinnahmung 
 durch die Folkszene und beginnt\, mit dem rebellischen Gestus des Rock’n
 ’Rolls zu flirten. Die aufwändig ausgestattete und glänzend besetzte F
 ilmbiografie überzeugt durch die musikalischen Auftritte der beiden Haupt
 darsteller\, die Dylans Songs gekonnt interpretieren.\nNatürlich bleibt d
 ie Künstlerfigur Bob Dylan nach wie vor ein Mysterium. Das ändert allerd
 ings nichts daran\, dass der Film sehr gute Unterhaltung bietet\, es sei d
 enn\, die Musik von Bob Dylan trifft auf taube Ohren. Eindeutigen Interpre
 tationen hat sich Dylan stets durch Zynismen\, aggressive Gegenfragen und 
 Schlagfertigkeit geschickt entzogen. Als ehrliche Haut mit unverstellter V
 erehrung für andere Musiker gibt sich Dylan allenfalls in seinen Radiofea
 tures "Theme Time Radio" zu erkennen.\n\nUSA 2024 R: James Mangold. D: Tim
 othée Chalamet\, Monica Barbaro. 142‘ FSK ab 6\n\nTrailer\n\n\nOnline-T
 ickets bestellen\n
ATTACH;FMTTYPE=image/jpeg:https://lunakino.de/wp-content/uploads/2025/06/l
 ike-a-complete-unknown.jpg
END:VEVENT
BEGIN:VTIMEZONE
TZID:Europe/Berlin
X-LIC-LOCATION:Europe/Berlin
BEGIN:DAYLIGHT
DTSTART:20250330T030000
TZOFFSETFROM:+0100
TZOFFSETTO:+0200
TZNAME:CEST
END:DAYLIGHT
END:VTIMEZONE
END:VCALENDAR