BEGIN:VCALENDAR
VERSION:2.0
PRODID:-//wp-events-plugin.com//7.2.3.1//EN
TZID:Europe/Berlin
X-WR-TIMEZONE:Europe/Berlin
BEGIN:VEVENT
UID:48@lunakino.de
DTSTART;TZID=Europe/Berlin:20210819T200000
DTEND;TZID=Europe/Berlin:20210819T233000
DTSTAMP:20210810T202014Z
URL:https://lunakino.de/filme/joker-3/
SUMMARY:Joker
DESCRIPTION:„Ein Straßenkünstler\, der in Gotham City immer wieder gede
 mütigt wird\, tötet im Clownskostüm drei reiche Schnösel\, die ihn in 
 der U-Bahn zusammengeschlagen haben. Als seine Maske daraufhin zur Ikone e
 iner Revolte der sozial Abgehängten wird\, durchlebt er eine beängstigen
 de Transformation. Der durch Bildgestaltung und Soundtrack atmosphärisch 
 ungemein packende Psychothriller interpretiert die DC-Figur des Joker\, di
 e als Gegenspieler von Batman zu den berühmtesten Superschurken des Genre
 s zählt\, als gebrochenen Antihelden\, dessen Entwicklung ganz ohne fanta
 stische Elemente mit größter Intensität fühlbar gemacht wird.“ (Film
 dienst)\n\nDie Genese eines Schurken: Der Film ist eine Batman-freie Urspr
 ungsgeschichte des clownesken Bösen in Gotham City.\n\nUSA 2019 R: Todd P
 hillips D: Joaquin Phoenix\, Robert De Niro\, Zazie Beetz. 122’\n\nTrail
 er: https://www.filmdienst.de/film/details/583543/joker\n\n\nOnline-Ticket
 s bestellen\n\n\n&nbsp\;\nBitte beachten Sie: Einlass kann nur gewährt we
 rden\, wenn eine der folgenden Kriterien ("3G-Regel") nachgewiesen werden 
 kann:\n\n 	Getestet: Corona-Antigen-Schnelltest (PoC) oder PCR-Test (beide
  mit 48h Gültigkeit!)\n 	Geimpft: Impfpass\n 	Genesen: Bestätigung über
  vollständige Genesung\n\nEine Rückerstattung des Ticketpreises bei Nich
 teinhaltung der 3G-Regel kann nicht erfolgen.
ATTACH;FMTTYPE=image/jpeg:https://lunakino.de/wp-content/uploads/2020/06/j
 oker.jpg
END:VEVENT
BEGIN:VTIMEZONE
TZID:Europe/Berlin
X-LIC-LOCATION:Europe/Berlin
BEGIN:DAYLIGHT
DTSTART:20210328T030000
TZOFFSETFROM:+0100
TZOFFSETTO:+0200
TZNAME:CEST
END:DAYLIGHT
END:VTIMEZONE
END:VCALENDAR