BEGIN:VCALENDAR
VERSION:2.0
PRODID:-//wp-events-plugin.com//7.2.3.1//EN
TZID:Europe/Berlin
X-WR-TIMEZONE:Europe/Berlin
BEGIN:VEVENT
UID:13@lunakino.de
DTSTART;TZID=Europe/Berlin:20200729T210000
DTEND;TZID=Europe/Berlin:20200729T233000
DTSTAMP:20200706T135856Z
URL:https://lunakino.de/filme/der-junge-muss-an-die-frische-luft-2/
SUMMARY:Der Junge muss an die frische Luft
DESCRIPTION:Ruhrpott 1972. Der pummelige\, 9-jährige Hans-Peter wächst au
 f in der Geborgenheit seiner fröhlichen und feierwütigen Verwandtschaft.
  Sein großes Talent\, andere zum Lachen zu bringen\, trainiert er täglic
 h im Krämerladen seiner Oma Änne. Aber leider ist nicht alles rosig. Dun
 kle Schatten legen sich auf den Alltag des Jungen\, als seine Mutter nach 
 einer Operation immer bedrückter wird. Für Hans-Peter ein Ansporn\, sein
 e komödiantische Begabung immer weiter zu perfektionieren. Die berührend
 e Kindheitsgeschichte eines der größten Entertainer Deutschlands\, Hape 
 Kerkeling. (tip Berlin)\n\nD 2018 R: Caroline Link. D: Julius Weckauf\, Lu
 ise Heyer\, Sönke Möhring\, Joachim Król\, Diana Amft\, Elena Uhlig\, M
 aren Kroymann\, Ursula Werner. 99’ ab 14\n\nTrailer: https://www.filmdie
 nst.de/film/details/562290/der-junge-muss-an-die-frische-luft\n\nOnline-Ti
 ckets bestellen\n
ATTACH;FMTTYPE=image/jpeg:https://lunakino.de/wp-content/uploads/2020/06/d
 er-junge-muss-an-die-frische-luft1.jpg
END:VEVENT
BEGIN:VTIMEZONE
TZID:Europe/Berlin
X-LIC-LOCATION:Europe/Berlin
BEGIN:DAYLIGHT
DTSTART:20200329T030000
TZOFFSETFROM:+0100
TZOFFSETTO:+0200
TZNAME:CEST
END:DAYLIGHT
END:VTIMEZONE
END:VCALENDAR